BEGIN:VCALENDAR
VERSION:2.0
PRODID:-//Senator Anthony H. Williams - ECPv6.15.20//NONSGML v1.0//EN
CALSCALE:GREGORIAN
METHOD:PUBLISH
X-ORIGINAL-URL:https://www.senatoranthonyhwilliams.com
X-WR-CALDESC:Events for Senator Anthony H. Williams
REFRESH-INTERVAL;VALUE=DURATION:PT1H
X-Robots-Tag:noindex
X-PUBLISHED-TTL:PT1H
BEGIN:VTIMEZONE
TZID:America/New_York
BEGIN:DAYLIGHT
TZOFFSETFROM:-0500
TZOFFSETTO:-0400
TZNAME:EDT
DTSTART:20140309T070000
END:DAYLIGHT
BEGIN:STANDARD
TZOFFSETFROM:-0400
TZOFFSETTO:-0500
TZNAME:EST
DTSTART:20141102T060000
END:STANDARD
BEGIN:DAYLIGHT
TZOFFSETFROM:-0500
TZOFFSETTO:-0400
TZNAME:EDT
DTSTART:20150308T070000
END:DAYLIGHT
BEGIN:STANDARD
TZOFFSETFROM:-0400
TZOFFSETTO:-0500
TZNAME:EST
DTSTART:20151101T060000
END:STANDARD
BEGIN:DAYLIGHT
TZOFFSETFROM:-0500
TZOFFSETTO:-0400
TZNAME:EDT
DTSTART:20160313T070000
END:DAYLIGHT
BEGIN:STANDARD
TZOFFSETFROM:-0400
TZOFFSETTO:-0500
TZNAME:EST
DTSTART:20161106T060000
END:STANDARD
END:VTIMEZONE
BEGIN:VEVENT
DTSTART;TZID=America/New_York:20150512T133000
DTEND;TZID=America/New_York:20150512T150000
DTSTAMP:20260425T220353
CREATED:20170828T205035Z
LAST-MODIFIED:20170828T205035Z
UID:9587-1431437400-1431442800@www.senatoranthonyhwilliams.com
SUMMARY:Medicare Programs to Help Save You Money!
DESCRIPTION:Are you or will you soon be eligible for Medicare? Are you already receiving Medicare benefits but want a better understanding of it all?\nDownload Flyer \nSenator Williams and Delaware County APPRISE present Medicare Programs to Help You Save Money! \nOn Tuesday\, May 12th\, 2015 from 1:30 until 3:00\, join us for a Medicare Low Income Cost Sharing information session which will include an explanation of the available cost-saving programs for Medical (Part B) and Prescription (Part D) premiums\, as well as the PACE prescription programs that help with prescription drug costs. \nBe sure to RSVP to 610-623-4090 or 610-284-7335 \nAPPRISE is a free health insurance counseling program designed to help older Pennsylvanians with Medicare. Counselors are specially trained staff and volunteers who can answer your questions about Medicare and provide you with objective\, easy-to-understand information about Medicare\, Medicare Supplemental Insurance\, Medicaid\, and Long-Term Care Insurance.
URL:https://www.senatoranthonyhwilliams.com/event/medicare-programs-to-help-save-you-money
LOCATION:Yeadon Library\, 809 Longacre Boulevard\, Philadelphia\, PA\, 19050\, United States
GEO:39.9362063;-75.2510993
X-APPLE-STRUCTURED-LOCATION;VALUE=URI;X-ADDRESS=Yeadon Library 809 Longacre Boulevard Philadelphia PA 19050 United States;X-APPLE-RADIUS=500;X-TITLE=809 Longacre Boulevard:geo:-75.2510993,39.9362063
END:VEVENT
END:VCALENDAR