BEGIN:VCALENDAR
VERSION:2.0
PRODID:-//Senator Anthony H. Williams - ECPv6.15.20//NONSGML v1.0//EN
CALSCALE:GREGORIAN
METHOD:PUBLISH
X-WR-CALNAME:Senator Anthony H. Williams
X-ORIGINAL-URL:https://www.senatoranthonyhwilliams.com
X-WR-CALDESC:Events for Senator Anthony H. Williams
REFRESH-INTERVAL;VALUE=DURATION:PT1H
X-Robots-Tag:noindex
X-PUBLISHED-TTL:PT1H
BEGIN:VTIMEZONE
TZID:America/New_York
BEGIN:DAYLIGHT
TZOFFSETFROM:-0500
TZOFFSETTO:-0400
TZNAME:EDT
DTSTART:20110313T070000
END:DAYLIGHT
BEGIN:STANDARD
TZOFFSETFROM:-0400
TZOFFSETTO:-0500
TZNAME:EST
DTSTART:20111106T060000
END:STANDARD
BEGIN:DAYLIGHT
TZOFFSETFROM:-0500
TZOFFSETTO:-0400
TZNAME:EDT
DTSTART:20120311T070000
END:DAYLIGHT
BEGIN:STANDARD
TZOFFSETFROM:-0400
TZOFFSETTO:-0500
TZNAME:EST
DTSTART:20121104T060000
END:STANDARD
BEGIN:DAYLIGHT
TZOFFSETFROM:-0500
TZOFFSETTO:-0400
TZNAME:EDT
DTSTART:20130310T070000
END:DAYLIGHT
BEGIN:STANDARD
TZOFFSETFROM:-0400
TZOFFSETTO:-0500
TZNAME:EST
DTSTART:20131103T060000
END:STANDARD
BEGIN:DAYLIGHT
TZOFFSETFROM:-0500
TZOFFSETTO:-0400
TZNAME:EDT
DTSTART:20140309T070000
END:DAYLIGHT
BEGIN:STANDARD
TZOFFSETFROM:-0400
TZOFFSETTO:-0500
TZNAME:EST
DTSTART:20141102T060000
END:STANDARD
END:VTIMEZONE
BEGIN:VEVENT
DTSTART;TZID=America/New_York:20130803T100000
DTEND;TZID=America/New_York:20130803T150000
DTSTAMP:20260420T043105
CREATED:20170828T193752Z
LAST-MODIFIED:20170828T193752Z
UID:9450-1375524000-1375542000@www.senatoranthonyhwilliams.com
SUMMARY:N2N Summer of Peace Violence Reduction Initiative 2013! South Philadelphia
DESCRIPTION:This event is in conjunction with the offices of  Councilman Kenyatta Johnson and State Representative Jordon Harris. \nActivities: Pool\, Bounces\, free food\, Basketball Tournament \nFor more information\, contact: Don Cave or Desaree Jones at 215-492-2980 \nNeighbor To Neighborhoods 2013!
URL:https://www.senatoranthonyhwilliams.com/event/n2n-summer-of-peace-violence-reduction-initiative-2013-south-philadelphia
LOCATION:Vare Recreation Center\, Philadelphia\, United States
GEO:39.9525839;-75.1652215
END:VEVENT
BEGIN:VEVENT
DTSTART;TZID=America/New_York:20130518T120000
DTEND;TZID=America/New_York:20130518T150000
DTSTAMP:20260420T043105
CREATED:20170825T210253Z
LAST-MODIFIED:20170825T210253Z
UID:9423-1368878400-1368889200@www.senatoranthonyhwilliams.com
SUMMARY:Register for Violence Reduction Basketball Tournament
DESCRIPTION:Register at the following Recreation Centers: Sheppard\, Cobbs Creek\, Christy\, Eastwick\, Kingsessing\, \nMcCreesh\, Myers\, Vare\, Anderson\, Darby \nThere will be 14 basketball teams with 30 per team. \nTournament games played 6/22 through 8/10 \nFor More Information\, Contact Mr. Ronald Brown at 215-729-2531 \nViolence Reduction Initiative 2013! \n 
URL:https://www.senatoranthonyhwilliams.com/event/register-for-violence-reduction-basketball-tournament
LOCATION:Vare Recreation Center\, Philadelphia\, United States
GEO:39.9525839;-75.1652215
END:VEVENT
BEGIN:VEVENT
DTSTART;TZID=America/New_York:20120804T110000
DTEND;TZID=America/New_York:20120804T160000
DTSTAMP:20260420T043105
CREATED:20170825T203536Z
LAST-MODIFIED:20170825T203536Z
UID:9380-1344078000-1344096000@www.senatoranthonyhwilliams.com
SUMMARY:Summer of Peace 2012 Cookout II
DESCRIPTION:Download Flyer \nFREE EVENT! A DAY OF FAMILY FUN!\nPresented in partnership with Keystone Mercy… \n\nFree food\nSwimming\nGames\nDJ Redeboi\nHealth screenings\n\nBasketball competition starts at 12 noon. \nSpecial thanks to our community partners: Sunoco | Industry XIX | Wawa | Fresh Grocers | West Philadelphia Coalition of Neighborhoods & Businesses
URL:https://www.senatoranthonyhwilliams.com/event/summer-of-peace-2012-cookout-ii
LOCATION:Vare Recreation Center\, Philadelphia\, United States
GEO:39.9525839;-75.1652215
END:VEVENT
END:VCALENDAR