BEGIN:VCALENDAR
VERSION:2.0
PRODID:-//Senator Anthony H. Williams - ECPv6.15.20//NONSGML v1.0//EN
CALSCALE:GREGORIAN
METHOD:PUBLISH
X-ORIGINAL-URL:https://www.senatoranthonyhwilliams.com
X-WR-CALDESC:Events for Senator Anthony H. Williams
REFRESH-INTERVAL;VALUE=DURATION:PT1H
X-Robots-Tag:noindex
X-PUBLISHED-TTL:PT1H
BEGIN:VTIMEZONE
TZID:America/New_York
BEGIN:DAYLIGHT
TZOFFSETFROM:-0500
TZOFFSETTO:-0400
TZNAME:EDT
DTSTART:20200308T070000
END:DAYLIGHT
BEGIN:STANDARD
TZOFFSETFROM:-0400
TZOFFSETTO:-0500
TZNAME:EST
DTSTART:20201101T060000
END:STANDARD
BEGIN:DAYLIGHT
TZOFFSETFROM:-0500
TZOFFSETTO:-0400
TZNAME:EDT
DTSTART:20210314T070000
END:DAYLIGHT
BEGIN:STANDARD
TZOFFSETFROM:-0400
TZOFFSETTO:-0500
TZNAME:EST
DTSTART:20211107T060000
END:STANDARD
BEGIN:DAYLIGHT
TZOFFSETFROM:-0500
TZOFFSETTO:-0400
TZNAME:EDT
DTSTART:20220313T070000
END:DAYLIGHT
BEGIN:STANDARD
TZOFFSETFROM:-0400
TZOFFSETTO:-0500
TZNAME:EST
DTSTART:20221106T060000
END:STANDARD
END:VTIMEZONE
BEGIN:VEVENT
DTSTART;TZID=America/New_York:20210612T110000
DTEND;TZID=America/New_York:20210612T140000
DTSTAMP:20260420T053846
CREATED:20210604T184358Z
LAST-MODIFIED:20210604T194539Z
UID:121422-1623495600-1623506400@www.senatoranthonyhwilliams.com
SUMMARY:Free Shredding Event
DESCRIPTION:I am proud to partner with House Democratic Leader Rep. Joanna McClinton\, and our sponsor Aetna\, to host a free community shredding event this Saturday\, June 12\, 2021\, from 11 a.m. to 2 p.m. \nSafely get rid of documents you no longer need related to taxes\, financial and medical records\, or other paper that holds sensitive personal information. This event is for individuals in our community\, not for businesses as a whole. \nThe event will be at the Mercy Fitzgerald East Campus in Yeadon at 642 South Wycombe Ave\, in the Friendship Circle Senior Center Parking Lot.
URL:https://www.senatoranthonyhwilliams.com/event/shredding-event-2021
LOCATION:Mercy Fitzgerald East Campus\, 642 South Wycombe Ave\, Yeadon\, PA\, 19050\, United States
ATTACH;FMTTYPE=image/jpeg:https://www.senatoranthonyhwilliams.com/wp-content/uploads/2021/06/Shred_Event_Flyer_6_12_21.jpg
GEO:39.9292976;-75.2635552
X-APPLE-STRUCTURED-LOCATION;VALUE=URI;X-ADDRESS=Mercy Fitzgerald East Campus 642 South Wycombe Ave Yeadon PA 19050 United States;X-APPLE-RADIUS=500;X-TITLE=642 South Wycombe Ave:geo:-75.2635552,39.9292976
END:VEVENT
END:VCALENDAR