BEGIN:VCALENDAR
VERSION:2.0
PRODID:-//Senator Anthony H. Williams - ECPv6.15.20//NONSGML v1.0//EN
CALSCALE:GREGORIAN
METHOD:PUBLISH
X-ORIGINAL-URL:https://www.senatoranthonyhwilliams.com
X-WR-CALDESC:Events for Senator Anthony H. Williams
REFRESH-INTERVAL;VALUE=DURATION:PT1H
X-Robots-Tag:noindex
X-PUBLISHED-TTL:PT1H
BEGIN:VTIMEZONE
TZID:America/New_York
BEGIN:DAYLIGHT
TZOFFSETFROM:-0500
TZOFFSETTO:-0400
TZNAME:EDT
DTSTART:20120311T070000
END:DAYLIGHT
BEGIN:STANDARD
TZOFFSETFROM:-0400
TZOFFSETTO:-0500
TZNAME:EST
DTSTART:20121104T060000
END:STANDARD
BEGIN:DAYLIGHT
TZOFFSETFROM:-0500
TZOFFSETTO:-0400
TZNAME:EDT
DTSTART:20130310T070000
END:DAYLIGHT
BEGIN:STANDARD
TZOFFSETFROM:-0400
TZOFFSETTO:-0500
TZNAME:EST
DTSTART:20131103T060000
END:STANDARD
BEGIN:DAYLIGHT
TZOFFSETFROM:-0500
TZOFFSETTO:-0400
TZNAME:EDT
DTSTART:20140309T070000
END:DAYLIGHT
BEGIN:STANDARD
TZOFFSETFROM:-0400
TZOFFSETTO:-0500
TZNAME:EST
DTSTART:20141102T060000
END:STANDARD
END:VTIMEZONE
BEGIN:VEVENT
DTSTART;TZID=America/New_York:20130919T100000
DTEND;TZID=America/New_York:20130919T140000
DTSTAMP:20260425T183236
CREATED:20170828T194609Z
LAST-MODIFIED:20170828T194609Z
UID:9469-1379584800-1379599200@www.senatoranthonyhwilliams.com
SUMMARY:State Senator. Anthony H. Williams Presents Mind\, Body\, Spirit Navigating Lift After 50+
DESCRIPTION:State Senator Anthony H. Williams presents Mind\, Body\, Spirit Navigating Life After 50+ \nLive Appearance from Old School 100.3fm \nFree Event • Free Lunch \nWorkshops & Information On: \n\nHealthy lifestyles\nExercise & Nutrition\nSocial security\nPrescription programs\nSenior Financial Issues\nLegal Issues\nResource Information Tables\n\nPlease RSVP to our office at 215.492.2980 \nDownload Sr. Expo Flyer Here \nDownload Program \n 
URL:https://www.senatoranthonyhwilliams.com/event/state-senator-anthony-h-williams-presents-mind-body-spirit-navigating-lift-after-50
LOCATION:Mercy Eastwick Wellness Center\, 2821 Island Avenue\, Philadelphia\, PA\, 19153\, United States
GEO:39.9067613;-75.239394
X-APPLE-STRUCTURED-LOCATION;VALUE=URI;X-ADDRESS=Mercy Eastwick Wellness Center 2821 Island Avenue Philadelphia PA 19153 United States;X-APPLE-RADIUS=500;X-TITLE=2821 Island Avenue:geo:-75.239394,39.9067613
END:VEVENT
END:VCALENDAR