BEGIN:VCALENDAR
VERSION:2.0
PRODID:-//Senator Anthony H. Williams - ECPv6.15.20//NONSGML v1.0//EN
CALSCALE:GREGORIAN
METHOD:PUBLISH
X-ORIGINAL-URL:https://www.senatoranthonyhwilliams.com
X-WR-CALDESC:Events for Senator Anthony H. Williams
REFRESH-INTERVAL;VALUE=DURATION:PT1H
X-Robots-Tag:noindex
X-PUBLISHED-TTL:PT1H
BEGIN:VTIMEZONE
TZID:America/New_York
BEGIN:DAYLIGHT
TZOFFSETFROM:-0500
TZOFFSETTO:-0400
TZNAME:EDT
DTSTART:20110313T070000
END:DAYLIGHT
BEGIN:STANDARD
TZOFFSETFROM:-0400
TZOFFSETTO:-0500
TZNAME:EST
DTSTART:20111106T060000
END:STANDARD
BEGIN:DAYLIGHT
TZOFFSETFROM:-0500
TZOFFSETTO:-0400
TZNAME:EDT
DTSTART:20120311T070000
END:DAYLIGHT
BEGIN:STANDARD
TZOFFSETFROM:-0400
TZOFFSETTO:-0500
TZNAME:EST
DTSTART:20121104T060000
END:STANDARD
BEGIN:DAYLIGHT
TZOFFSETFROM:-0500
TZOFFSETTO:-0400
TZNAME:EDT
DTSTART:20130310T070000
END:DAYLIGHT
BEGIN:STANDARD
TZOFFSETFROM:-0400
TZOFFSETTO:-0500
TZNAME:EST
DTSTART:20131103T060000
END:STANDARD
BEGIN:DAYLIGHT
TZOFFSETFROM:-0500
TZOFFSETTO:-0400
TZNAME:EDT
DTSTART:20140309T070000
END:DAYLIGHT
BEGIN:STANDARD
TZOFFSETFROM:-0400
TZOFFSETTO:-0500
TZNAME:EST
DTSTART:20141102T060000
END:STANDARD
BEGIN:DAYLIGHT
TZOFFSETFROM:-0500
TZOFFSETTO:-0400
TZNAME:EDT
DTSTART:20150308T070000
END:DAYLIGHT
BEGIN:STANDARD
TZOFFSETFROM:-0400
TZOFFSETTO:-0500
TZNAME:EST
DTSTART:20151101T060000
END:STANDARD
BEGIN:DAYLIGHT
TZOFFSETFROM:-0500
TZOFFSETTO:-0400
TZNAME:EDT
DTSTART:20160313T070000
END:DAYLIGHT
BEGIN:STANDARD
TZOFFSETFROM:-0400
TZOFFSETTO:-0500
TZNAME:EST
DTSTART:20161106T060000
END:STANDARD
BEGIN:DAYLIGHT
TZOFFSETFROM:-0500
TZOFFSETTO:-0400
TZNAME:EDT
DTSTART:20170312T070000
END:DAYLIGHT
BEGIN:STANDARD
TZOFFSETFROM:-0400
TZOFFSETTO:-0500
TZNAME:EST
DTSTART:20171105T060000
END:STANDARD
BEGIN:DAYLIGHT
TZOFFSETFROM:-0500
TZOFFSETTO:-0400
TZNAME:EDT
DTSTART:20180311T070000
END:DAYLIGHT
BEGIN:STANDARD
TZOFFSETFROM:-0400
TZOFFSETTO:-0500
TZNAME:EST
DTSTART:20181104T060000
END:STANDARD
BEGIN:DAYLIGHT
TZOFFSETFROM:-0500
TZOFFSETTO:-0400
TZNAME:EDT
DTSTART:20190310T070000
END:DAYLIGHT
BEGIN:STANDARD
TZOFFSETFROM:-0400
TZOFFSETTO:-0500
TZNAME:EST
DTSTART:20191103T060000
END:STANDARD
BEGIN:DAYLIGHT
TZOFFSETFROM:-0500
TZOFFSETTO:-0400
TZNAME:EDT
DTSTART:20200308T070000
END:DAYLIGHT
BEGIN:STANDARD
TZOFFSETFROM:-0400
TZOFFSETTO:-0500
TZNAME:EST
DTSTART:20201101T060000
END:STANDARD
BEGIN:DAYLIGHT
TZOFFSETFROM:-0500
TZOFFSETTO:-0400
TZNAME:EDT
DTSTART:20210314T070000
END:DAYLIGHT
BEGIN:STANDARD
TZOFFSETFROM:-0400
TZOFFSETTO:-0500
TZNAME:EST
DTSTART:20211107T060000
END:STANDARD
END:VTIMEZONE
BEGIN:VEVENT
DTSTART;TZID=America/New_York:20200414T100000
DTEND;TZID=America/New_York:20200414T120000
DTSTAMP:20260423T052409
CREATED:20200312T143403Z
LAST-MODIFIED:20200312T143656Z
UID:87789-1586858400-1586865600@www.senatoranthonyhwilliams.com
SUMMARY:Voting Machine Demonstration
DESCRIPTION:State Senator Anthony H. Williams and Good Neighbors Senior Center want to make sure you are prepared to use Delaware County’s new voting system by inviting you to attend a Voting Machine Demonstration. The event will be held April 14th from 10 am – noon at the Good Neighbor Senior Center located at 1085 Hook Road\, Sharon Hill\, PA \nThis non-partisan event is free and open to the public and handicap accessible. \nFor more information\, contact: Rudy Taylor or Joy Norman in Senator Williams’ Office at 215.492.2980
URL:https://www.senatoranthonyhwilliams.com/event/voting-demo-apr14-2020
LOCATION:Good Neighbor Senior Center\, 1085 Hook Road\, Sharon Hill\, PA\, 19079\, United States
ATTACH;FMTTYPE=image/jpeg:https://www.senatoranthonyhwilliams.com/wp-content/uploads/2020/03/VotingMachineDemo_Apr14_2020.jpg
GEO:39.8978826;-75.2654898
X-APPLE-STRUCTURED-LOCATION;VALUE=URI;X-ADDRESS=Good Neighbor Senior Center 1085 Hook Road Sharon Hill PA 19079 United States;X-APPLE-RADIUS=500;X-TITLE=1085 Hook Road:geo:-75.2654898,39.8978826
END:VEVENT
BEGIN:VEVENT
DTSTART;TZID=America/New_York:20161028T110000
DTEND;TZID=America/New_York:20161028T133000
DTSTAMP:20260423T052409
CREATED:20170905T193326Z
LAST-MODIFIED:20170905T193326Z
UID:9715-1477652400-1477661400@www.senatoranthonyhwilliams.com
SUMMARY:SEPTA ID & Mobile Constituent Service Event
DESCRIPTION:State Senator Anthony H. Williams & State Rep. Maria Donatucci are hosting a SEPTA ID & Mobile Constituent Service Event. \nGet your photo taken for your free SEPTA Key ID!\nSEPTA Key is a new\, modern fare payment and collection system. Seniors can continue to use free SEPTA transit services\, including buses\, the Market-Frankford and Broad Street lines\, trolley and the Norristown High Speed Line. Regional Rail fares for seniors will continue to be $1 for rides within Pennsylvania. Seniors who do not want to use their PA Driver’s License or stateissued ID card for travel are encouraged to attend. SEPTA will mail your card to you shortly after the event. \nPlease bring your ID with you. \nFor more information\, please call Senator Williams’ office at (610) 284-7335 \nDownload Flyer →
URL:https://www.senatoranthonyhwilliams.com/event/septa-id-mobile-constituent-service-event
LOCATION:Good Neighbor Senior Center\, 1085 Hook Road\, Sharon Hill\, PA\, 19079\, United States
GEO:39.8978826;-75.2654898
X-APPLE-STRUCTURED-LOCATION;VALUE=URI;X-ADDRESS=Good Neighbor Senior Center 1085 Hook Road Sharon Hill PA 19079 United States;X-APPLE-RADIUS=500;X-TITLE=1085 Hook Road:geo:-75.2654898,39.8978826
END:VEVENT
BEGIN:VEVENT
DTSTART;TZID=America/New_York:20120612T100000
DTEND;TZID=America/New_York:20120612T140000
DTSTAMP:20260423T052409
CREATED:20170825T203251Z
LAST-MODIFIED:20170825T203251Z
UID:9378-1339495200-1339509600@www.senatoranthonyhwilliams.com
SUMMARY:Senior Fair
DESCRIPTION:Download Flyer\n \nI am pleased to join with the Good Neighbor Senior Center in co-hosting this Senior Fair.\n \nVendors will provide information about senior services.\nClass demonstration.\nLunch will be available at nominal fee.\n \nCheck back for additional details and/or contact Ronda Liggins at 610-284-7335 or rliggins@pasenate.com
URL:https://www.senatoranthonyhwilliams.com/event/senior-fair
LOCATION:Good Neighbor Senior Center\, 1085 Hook Road\, Sharon Hill\, PA\, 19079\, United States
GEO:39.8978826;-75.2654898
X-APPLE-STRUCTURED-LOCATION;VALUE=URI;X-ADDRESS=Good Neighbor Senior Center 1085 Hook Road Sharon Hill PA 19079 United States;X-APPLE-RADIUS=500;X-TITLE=1085 Hook Road:geo:-75.2654898,39.8978826
END:VEVENT
BEGIN:VEVENT
DTSTART;TZID=America/New_York:20120223T100000
DTEND;TZID=America/New_York:20120223T120000
DTSTAMP:20260423T052409
CREATED:20170825T154504Z
LAST-MODIFIED:20170825T154504Z
UID:9253-1329991200-1329998400@www.senatoranthonyhwilliams.com
SUMMARY:Tax Return & Tax/Rent Rebate Form Preparation
DESCRIPTION:Download flyer. \nDarby CDC will help you prepare your income tax returns (EZ and short forms only).\nQualified seniors and persons with disability will also receive help with tax/rent rebate forms. \nWhat to bring: \n\nYour ID and Social Security card.\nCopies of 2011 rent receipts or receipts for paid property and school taxes (bring your year-end mortgage statement if your taxes are paid through your mortgage company).\nStatements of income\, including W-2’s\, Social Security\, pensions\, etc.\nChecking or savings account number and bank routing number (if you wand direct deposit of your rebate).\n\nIT’S ALL FREE\, but space is limited.  Sign up in advance at the Good Neighbor Senior Center or call 610-586-8170. \nMembers of Senator Williams’ staff will be present to provide on-site constituent services.  We can help with any state government matter\, including PACE and PACENET\, public utilities\, drivers licenses\, vehicle registrations and more. \nPECO representatives will also be on hand to discuss energy saving initiatives.
URL:https://www.senatoranthonyhwilliams.com/event/tax-return-taxrent-rebate-form-preparation
LOCATION:Good Neighbor Senior Center\, 1085 Hook Road\, Sharon Hill\, PA\, 19079\, United States
GEO:39.8978826;-75.2654898
X-APPLE-STRUCTURED-LOCATION;VALUE=URI;X-ADDRESS=Good Neighbor Senior Center 1085 Hook Road Sharon Hill PA 19079 United States;X-APPLE-RADIUS=500;X-TITLE=1085 Hook Road:geo:-75.2654898,39.8978826
END:VEVENT
END:VCALENDAR