BEGIN:VCALENDAR
VERSION:2.0
PRODID:-//Senator Anthony H. Williams - ECPv6.15.20//NONSGML v1.0//EN
CALSCALE:GREGORIAN
METHOD:PUBLISH
X-WR-CALNAME:Senator Anthony H. Williams
X-ORIGINAL-URL:https://www.senatoranthonyhwilliams.com
X-WR-CALDESC:Events for Senator Anthony H. Williams
REFRESH-INTERVAL;VALUE=DURATION:PT1H
X-Robots-Tag:noindex
X-PUBLISHED-TTL:PT1H
BEGIN:VTIMEZONE
TZID:America/New_York
BEGIN:DAYLIGHT
TZOFFSETFROM:-0500
TZOFFSETTO:-0400
TZNAME:EDT
DTSTART:20150308T070000
END:DAYLIGHT
BEGIN:STANDARD
TZOFFSETFROM:-0400
TZOFFSETTO:-0500
TZNAME:EST
DTSTART:20151101T060000
END:STANDARD
BEGIN:DAYLIGHT
TZOFFSETFROM:-0500
TZOFFSETTO:-0400
TZNAME:EDT
DTSTART:20160313T070000
END:DAYLIGHT
BEGIN:STANDARD
TZOFFSETFROM:-0400
TZOFFSETTO:-0500
TZNAME:EST
DTSTART:20161106T060000
END:STANDARD
BEGIN:DAYLIGHT
TZOFFSETFROM:-0500
TZOFFSETTO:-0400
TZNAME:EDT
DTSTART:20170312T070000
END:DAYLIGHT
BEGIN:STANDARD
TZOFFSETFROM:-0400
TZOFFSETTO:-0500
TZNAME:EST
DTSTART:20171105T060000
END:STANDARD
END:VTIMEZONE
BEGIN:VEVENT
DTSTART;TZID=America/New_York:20160415T140000
DTEND;TZID=America/New_York:20160415T160000
DTSTAMP:20260423T203944
CREATED:20170905T193705Z
LAST-MODIFIED:20170905T195305Z
UID:9720-1460728800-1460736000@www.senatoranthonyhwilliams.com
SUMMARY:Mentoring is Brotherhood Challenge - Male Volunteer Recruitment Event
DESCRIPTION:State Sen. Anthony H. Williams (D-Philadelphia/Delaware) has joined with Philadelphia Eagles safety Rodney McLeod to present the Big Brothers Big Sisters “Mentoring is Brotherhood Challenge” male volunteer recruitment event on Saturday\, April 15 from 2 p.m. to 4 p.m. at Modell’s at Darby Township Fire Station\, 1351 Hook Road\, Darby Township\, PA. \nBig Brothers and Sisters has more than 1\,200 children on the waiting list for mentors\, and the majority are African American or Hispanic boys. The event is designed to help recruit mentors for the children. \nFor more information\, please contact Sabrina Hall or Rob Murray at 215-492-2980. \nDownload Flyer → \n \n  \n 
URL:https://www.senatoranthonyhwilliams.com/event/mentoring-is-brotherhood-challenge-male-volunteer-recruitment-event
LOCATION:Darby Township Volunteer Fire Company #4\, 1351 Hook Road\, Sharon Hill\, PA\, 19079\, United States
GEO:39.897781;-75.2699928
X-APPLE-STRUCTURED-LOCATION;VALUE=URI;X-ADDRESS=Darby Township Volunteer Fire Company #4 1351 Hook Road Sharon Hill PA 19079 United States;X-APPLE-RADIUS=500;X-TITLE=1351 Hook Road:geo:-75.2699928,39.897781
END:VEVENT
BEGIN:VEVENT
DTSTART;TZID=America/New_York:20160314T100000
DTEND;TZID=America/New_York:20160314T130000
DTSTAMP:20260423T203944
CREATED:20170828T210310Z
LAST-MODIFIED:20170828T210310Z
UID:9624-1457949600-1457960400@www.senatoranthonyhwilliams.com
SUMMARY:Mobile Constituent Service Day
DESCRIPTION:Senator Anthony H. Williams in partnership with Home Helpers and Direct Link of Southwest Philadelphia and Darby Township Volunteer Fire Co. #4 are hosting a Mobile Constituent Service Day on Monday\, March 14\, 2016 from 10 a.m. till 1 p.m.  This event will be held at the Darby Township Volunteer Fire Department Company #4 located at 1351 Hook Road in Darby Township. \nRepresentatives from Home Helpers and Direct Link of Southwest Philadelphia will also be on site with information on services they offer: \n\nCompanionship Care\nLight Housekeeping\nRespite Care\nNutrition Education\nMeal Preparation\nTransportation (church\, social events and more)\n\nHome Helpers is the nation’s leading franchise specializing in comprehensive home care for seniors\,\nnew mothers\, the intellectually disabled and individuals needing recuperative and continuing assistance.\nThey offer free in-home consultations and work with each client to create a flexible\, affordable care plan\nbased on a person’s individual needs. \nLight Refreshments will be served. \nContact Rudy Taylor at 215-492-2980 or rtaylor@pasenate.com for information. \nDownload Flyer →
URL:https://www.senatoranthonyhwilliams.com/event/mobile-constituent-service-day
LOCATION:Darby Township Volunteer Fire Company #4\, 1351 Hook Road\, Sharon Hill\, PA\, 19079\, United States
GEO:39.897781;-75.2699928
X-APPLE-STRUCTURED-LOCATION;VALUE=URI;X-ADDRESS=Darby Township Volunteer Fire Company #4 1351 Hook Road Sharon Hill PA 19079 United States;X-APPLE-RADIUS=500;X-TITLE=1351 Hook Road:geo:-75.2699928,39.897781
END:VEVENT
END:VCALENDAR