BEGIN:VCALENDAR
VERSION:2.0
PRODID:-//Senator Anthony H. Williams - ECPv6.15.20//NONSGML v1.0//EN
CALSCALE:GREGORIAN
METHOD:PUBLISH
X-WR-CALNAME:Senator Anthony H. Williams
X-ORIGINAL-URL:https://www.senatoranthonyhwilliams.com
X-WR-CALDESC:Events for Senator Anthony H. Williams
REFRESH-INTERVAL;VALUE=DURATION:PT1H
X-Robots-Tag:noindex
X-PUBLISHED-TTL:PT1H
BEGIN:VTIMEZONE
TZID:America/New_York
BEGIN:DAYLIGHT
TZOFFSETFROM:-0500
TZOFFSETTO:-0400
TZNAME:EDT
DTSTART:20120311T070000
END:DAYLIGHT
BEGIN:STANDARD
TZOFFSETFROM:-0400
TZOFFSETTO:-0500
TZNAME:EST
DTSTART:20121104T060000
END:STANDARD
BEGIN:DAYLIGHT
TZOFFSETFROM:-0500
TZOFFSETTO:-0400
TZNAME:EDT
DTSTART:20130310T070000
END:DAYLIGHT
BEGIN:STANDARD
TZOFFSETFROM:-0400
TZOFFSETTO:-0500
TZNAME:EST
DTSTART:20131103T060000
END:STANDARD
BEGIN:DAYLIGHT
TZOFFSETFROM:-0500
TZOFFSETTO:-0400
TZNAME:EDT
DTSTART:20140309T070000
END:DAYLIGHT
BEGIN:STANDARD
TZOFFSETFROM:-0400
TZOFFSETTO:-0500
TZNAME:EST
DTSTART:20141102T060000
END:STANDARD
BEGIN:DAYLIGHT
TZOFFSETFROM:-0500
TZOFFSETTO:-0400
TZNAME:EDT
DTSTART:20150308T070000
END:DAYLIGHT
BEGIN:STANDARD
TZOFFSETFROM:-0400
TZOFFSETTO:-0500
TZNAME:EST
DTSTART:20151101T060000
END:STANDARD
BEGIN:DAYLIGHT
TZOFFSETFROM:-0500
TZOFFSETTO:-0400
TZNAME:EDT
DTSTART:20160313T070000
END:DAYLIGHT
BEGIN:STANDARD
TZOFFSETFROM:-0400
TZOFFSETTO:-0500
TZNAME:EST
DTSTART:20161106T060000
END:STANDARD
BEGIN:DAYLIGHT
TZOFFSETFROM:-0500
TZOFFSETTO:-0400
TZNAME:EDT
DTSTART:20170312T070000
END:DAYLIGHT
BEGIN:STANDARD
TZOFFSETFROM:-0400
TZOFFSETTO:-0500
TZNAME:EST
DTSTART:20171105T060000
END:STANDARD
BEGIN:DAYLIGHT
TZOFFSETFROM:-0500
TZOFFSETTO:-0400
TZNAME:EDT
DTSTART:20180311T070000
END:DAYLIGHT
BEGIN:STANDARD
TZOFFSETFROM:-0400
TZOFFSETTO:-0500
TZNAME:EST
DTSTART:20181104T060000
END:STANDARD
BEGIN:DAYLIGHT
TZOFFSETFROM:-0500
TZOFFSETTO:-0400
TZNAME:EDT
DTSTART:20190310T070000
END:DAYLIGHT
BEGIN:STANDARD
TZOFFSETFROM:-0400
TZOFFSETTO:-0500
TZNAME:EST
DTSTART:20191103T060000
END:STANDARD
BEGIN:DAYLIGHT
TZOFFSETFROM:-0500
TZOFFSETTO:-0400
TZNAME:EDT
DTSTART:20200308T070000
END:DAYLIGHT
BEGIN:STANDARD
TZOFFSETFROM:-0400
TZOFFSETTO:-0500
TZNAME:EST
DTSTART:20201101T060000
END:STANDARD
BEGIN:DAYLIGHT
TZOFFSETFROM:-0500
TZOFFSETTO:-0400
TZNAME:EDT
DTSTART:20210314T070000
END:DAYLIGHT
BEGIN:STANDARD
TZOFFSETFROM:-0400
TZOFFSETTO:-0500
TZNAME:EST
DTSTART:20211107T060000
END:STANDARD
BEGIN:DAYLIGHT
TZOFFSETFROM:-0500
TZOFFSETTO:-0400
TZNAME:EDT
DTSTART:20220313T070000
END:DAYLIGHT
BEGIN:STANDARD
TZOFFSETFROM:-0400
TZOFFSETTO:-0500
TZNAME:EST
DTSTART:20221106T060000
END:STANDARD
BEGIN:DAYLIGHT
TZOFFSETFROM:-0500
TZOFFSETTO:-0400
TZNAME:EDT
DTSTART:20230312T070000
END:DAYLIGHT
BEGIN:STANDARD
TZOFFSETFROM:-0400
TZOFFSETTO:-0500
TZNAME:EST
DTSTART:20231105T060000
END:STANDARD
BEGIN:DAYLIGHT
TZOFFSETFROM:-0500
TZOFFSETTO:-0400
TZNAME:EDT
DTSTART:20240310T070000
END:DAYLIGHT
BEGIN:STANDARD
TZOFFSETFROM:-0400
TZOFFSETTO:-0500
TZNAME:EST
DTSTART:20241103T060000
END:STANDARD
BEGIN:DAYLIGHT
TZOFFSETFROM:-0500
TZOFFSETTO:-0400
TZNAME:EDT
DTSTART:20250309T070000
END:DAYLIGHT
BEGIN:STANDARD
TZOFFSETFROM:-0400
TZOFFSETTO:-0500
TZNAME:EST
DTSTART:20251102T060000
END:STANDARD
END:VTIMEZONE
BEGIN:VEVENT
DTSTART;TZID=America/New_York:20240420T090000
DTEND;TZID=America/New_York:20240420T130000
DTSTAMP:20260422T205405
CREATED:20240404T134633Z
LAST-MODIFIED:20240412T190824Z
UID:134463-1713603600-1713618000@www.senatoranthonyhwilliams.com
SUMMARY:Friends of Anderson Alumni Day
DESCRIPTION:Principal Kristin Johnson and I invite Add B. Anderson alumni to the school to reconnect with fellow classmates\, teachers\, parents\, and staff. Also\, we will be cleaning up areas of the school to make it more accommodating for students and staff.  \nInspired by Earth Day and our need to protect our natural resources (the school)\, we intend to build an alumnus mentoring component to the school programming that will be consistent and on-going.
URL:https://www.senatoranthonyhwilliams.com/event/friends-of-anderson-alumni-day
LOCATION:Add B. Anderson School\, 1034 South 60th Street\, Philadelphia\, PA\, 19143\, United States
ATTACH;FMTTYPE=image/jpeg:https://www.senatoranthonyhwilliams.com/wp-content/uploads/2024/04/2024_AWilliams_AlumniDay_Flyer.jpg
GEO:39.9467347;-75.2455992
X-APPLE-STRUCTURED-LOCATION;VALUE=URI;X-ADDRESS=Add B. Anderson School 1034 South 60th Street Philadelphia PA 19143 United States;X-APPLE-RADIUS=500;X-TITLE=1034 South 60th Street:geo:-75.2455992,39.9467347
END:VEVENT
BEGIN:VEVENT
DTSTART;TZID=America/New_York:20130221T180000
DTEND;TZID=America/New_York:20130221T193000
DTSTAMP:20260422T205405
CREATED:20170825T205451Z
LAST-MODIFIED:20170825T205451Z
UID:9416-1361469600-1361475000@www.senatoranthonyhwilliams.com
SUMMARY:Violence Reduction Initiative
DESCRIPTION:Download flyer \nLast year we spoke – This year we act! \nCome learn about new programming and available resources which respond to our community’s needs to reduce violence by assisting those most at risk. \n\nG.E.D. (Youth and Adult)\nComputer Training\nEmployment Assistance\nAddiction Services\nPublic Safety\nFamily Guidance and Resources\nRecreation\nReentry\n\nFor more information\, please contact Don Cave at 215-492-2980 or dcave@pasenate.com
URL:https://www.senatoranthonyhwilliams.com/event/violence-reduction-initiative
LOCATION:Add B. Anderson School\, 1034 South 60th Street\, Philadelphia\, PA\, 19143\, United States
GEO:39.9467347;-75.2455992
X-APPLE-STRUCTURED-LOCATION;VALUE=URI;X-ADDRESS=Add B. Anderson School 1034 South 60th Street Philadelphia PA 19143 United States;X-APPLE-RADIUS=500;X-TITLE=1034 South 60th Street:geo:-75.2455992,39.9467347
END:VEVENT
END:VCALENDAR