BEGIN:VCALENDAR
VERSION:2.0
PRODID:-//Senator Anthony H. Williams - ECPv6.15.20//NONSGML v1.0//EN
CALSCALE:GREGORIAN
METHOD:PUBLISH
X-ORIGINAL-URL:https://www.senatoranthonyhwilliams.com
X-WR-CALDESC:Events for Senator Anthony H. Williams
REFRESH-INTERVAL;VALUE=DURATION:PT1H
X-Robots-Tag:noindex
X-PUBLISHED-TTL:PT1H
BEGIN:VTIMEZONE
TZID:America/New_York
BEGIN:DAYLIGHT
TZOFFSETFROM:-0500
TZOFFSETTO:-0400
TZNAME:EDT
DTSTART:20110313T070000
END:DAYLIGHT
BEGIN:STANDARD
TZOFFSETFROM:-0400
TZOFFSETTO:-0500
TZNAME:EST
DTSTART:20111106T060000
END:STANDARD
BEGIN:DAYLIGHT
TZOFFSETFROM:-0500
TZOFFSETTO:-0400
TZNAME:EDT
DTSTART:20120311T070000
END:DAYLIGHT
BEGIN:STANDARD
TZOFFSETFROM:-0400
TZOFFSETTO:-0500
TZNAME:EST
DTSTART:20121104T060000
END:STANDARD
BEGIN:DAYLIGHT
TZOFFSETFROM:-0500
TZOFFSETTO:-0400
TZNAME:EDT
DTSTART:20130310T070000
END:DAYLIGHT
BEGIN:STANDARD
TZOFFSETFROM:-0400
TZOFFSETTO:-0500
TZNAME:EST
DTSTART:20131103T060000
END:STANDARD
BEGIN:DAYLIGHT
TZOFFSETFROM:-0500
TZOFFSETTO:-0400
TZNAME:EDT
DTSTART:20140309T070000
END:DAYLIGHT
BEGIN:STANDARD
TZOFFSETFROM:-0400
TZOFFSETTO:-0500
TZNAME:EST
DTSTART:20141102T060000
END:STANDARD
END:VTIMEZONE
BEGIN:VEVENT
DTSTART;TZID=America/New_York:20130327T170000
DTEND;TZID=America/New_York:20130327T200000
DTSTAMP:20260423T001824
CREATED:20170825T205525Z
LAST-MODIFIED:20170825T205525Z
UID:9417-1364403600-1364414400@www.senatoranthonyhwilliams.com
SUMMARY:ODUNDE 365 Presents...My Story
DESCRIPTION:Download flyer \nRobert Bogle\, CEO of the Philadelphia Tribune\, and I will be the featured speakers at a program moderated by A. Bruce Crawley. \nTo register for this event\, please call 215-732-8510 or email. \n[frame align=”none”][/frame]
URL:https://www.senatoranthonyhwilliams.com/event/odunde-365-presents-my-story
LOCATION:African American Museum in Philadelphia\, 701 Arch St\, Philadelphia\, PA\, 19106\, United States
GEO:39.9531521;-75.1517754
X-APPLE-STRUCTURED-LOCATION;VALUE=URI;X-ADDRESS=African American Museum in Philadelphia 701 Arch St Philadelphia PA 19106 United States;X-APPLE-RADIUS=500;X-TITLE=701 Arch St:geo:-75.1517754,39.9531521
END:VEVENT
BEGIN:VEVENT
DTSTART;TZID=America/New_York:20120426T100000
DTEND;TZID=America/New_York:20120426T143000
DTSTAMP:20260423T001824
CREATED:20170825T202829Z
LAST-MODIFIED:20170825T203029Z
UID:9362-1335434400-1335450600@www.senatoranthonyhwilliams.com
SUMMARY:Save Energy & Money
DESCRIPTION:Senator Williams will be participating in the afternoon panel discussion at this FREE event. \nRegistration begins at 9 AM \nLearn about the many resources available to consumers so that they can save energy and money on their utility bills.\nIn addition to the valuable information\, you will enjoy: \n\nOpening Remarks\nLunch Provided – Box Lunch Choice\nDoor Prizes\nResource & Information Center\nFree Blood Pressure Screening\n\nThe Be Utility Wise group\, comprised of representatives from local utilities\, government\, and community agencies\, will host this year’s event\, “Save Energy & Money.” \nPA Public Utility Commission\nPeco Energy\nPhiladelphia Corporation for Aging\nAmerican Association of Blacks In Energy (AABE)\nEnergy Works\nEnergy Coordinating Agency\nPhiladelphia Gas Works\nPennsylvania Aging\, Utilities and Economic Consortium\, Inc. \nDownload flyer
URL:https://www.senatoranthonyhwilliams.com/event/save-energy-money
LOCATION:African American Museum in Philadelphia\, 701 Arch St\, Philadelphia\, PA\, 19106\, United States
GEO:39.9531521;-75.1517754
X-APPLE-STRUCTURED-LOCATION;VALUE=URI;X-ADDRESS=African American Museum in Philadelphia 701 Arch St Philadelphia PA 19106 United States;X-APPLE-RADIUS=500;X-TITLE=701 Arch St:geo:-75.1517754,39.9531521
END:VEVENT
END:VCALENDAR