BEGIN:VCALENDAR
VERSION:2.0
PRODID:-//Senator Anthony H. Williams - ECPv6.15.20//NONSGML v1.0//EN
CALSCALE:GREGORIAN
METHOD:PUBLISH
X-ORIGINAL-URL:https://www.senatoranthonyhwilliams.com
X-WR-CALDESC:Events for Senator Anthony H. Williams
REFRESH-INTERVAL;VALUE=DURATION:PT1H
X-Robots-Tag:noindex
X-PUBLISHED-TTL:PT1H
BEGIN:VTIMEZONE
TZID:America/New_York
BEGIN:DAYLIGHT
TZOFFSETFROM:-0500
TZOFFSETTO:-0400
TZNAME:EDT
DTSTART:20160313T070000
END:DAYLIGHT
BEGIN:STANDARD
TZOFFSETFROM:-0400
TZOFFSETTO:-0500
TZNAME:EST
DTSTART:20161106T060000
END:STANDARD
BEGIN:DAYLIGHT
TZOFFSETFROM:-0500
TZOFFSETTO:-0400
TZNAME:EDT
DTSTART:20170312T070000
END:DAYLIGHT
BEGIN:STANDARD
TZOFFSETFROM:-0400
TZOFFSETTO:-0500
TZNAME:EST
DTSTART:20171105T060000
END:STANDARD
BEGIN:DAYLIGHT
TZOFFSETFROM:-0500
TZOFFSETTO:-0400
TZNAME:EDT
DTSTART:20180311T070000
END:DAYLIGHT
BEGIN:STANDARD
TZOFFSETFROM:-0400
TZOFFSETTO:-0500
TZNAME:EST
DTSTART:20181104T060000
END:STANDARD
BEGIN:DAYLIGHT
TZOFFSETFROM:-0500
TZOFFSETTO:-0400
TZNAME:EDT
DTSTART:20190310T070000
END:DAYLIGHT
BEGIN:STANDARD
TZOFFSETFROM:-0400
TZOFFSETTO:-0500
TZNAME:EST
DTSTART:20191103T060000
END:STANDARD
BEGIN:DAYLIGHT
TZOFFSETFROM:-0500
TZOFFSETTO:-0400
TZNAME:EDT
DTSTART:20200308T070000
END:DAYLIGHT
BEGIN:STANDARD
TZOFFSETFROM:-0400
TZOFFSETTO:-0500
TZNAME:EST
DTSTART:20201101T060000
END:STANDARD
END:VTIMEZONE
BEGIN:VEVENT
DTSTART;TZID=America/New_York:20190313T180000
DTEND;TZID=America/New_York:20190313T190000
DTSTAMP:20260423T010502
CREATED:20190225T165415Z
LAST-MODIFIED:20190225T165814Z
UID:55016-1552500000-1552503600@www.senatoranthonyhwilliams.com
SUMMARY:Teletown Hall Community Meeting
DESCRIPTION:Senator Anthony H. Williams to host a Teletown Hall Community Meeting in partnership with Captain Scott Drissel of the 12th Police Department on March 13\, 2019. \nPlease come out\, or call in\, to ask your questions and share your concerns. You can participate in person or via the telephone conference call. Meeting will also be live streamed and available to view on www.senatoranthonyhwilliams.com. Register your cell phone number on the Senator’s website to receive a call and participate. \nLight refreshments served. \nClick here to participate → \nDownload Flyer →
URL:https://www.senatoranthonyhwilliams.com/event/teletown-hall-community-meeting
LOCATION:12th Police District\, 6448 Woodland Avenue\, Philadelphia\, PA\, 19142\, United States
ATTACH;FMTTYPE=image/jpeg:https://www.senatoranthonyhwilliams.com/wp-content/uploads/2019/02/TeletownHall_March_2019.jpg
GEO:39.9254529;-75.2338224
X-APPLE-STRUCTURED-LOCATION;VALUE=URI;X-ADDRESS=12th Police District 6448 Woodland Avenue Philadelphia PA 19142 United States;X-APPLE-RADIUS=500;X-TITLE=6448 Woodland Avenue:geo:-75.2338224,39.9254529
END:VEVENT
BEGIN:VEVENT
DTSTART;TZID=America/New_York:20171216T100000
DTEND;TZID=America/New_York:20171216T110000
DTSTAMP:20260423T010502
CREATED:20171212T151559Z
LAST-MODIFIED:20171212T152111Z
UID:10265-1513418400-1513422000@www.senatoranthonyhwilliams.com
SUMMARY:Gunlock Give-a-Way
DESCRIPTION:Chilling Events Involving Children\, Accidental Deaths Involving Guns Prompt Action \nHarrisburg – December 11\, 2017 − State Sen. Anthony H. Williams (D-Philadelphia/Delaware) in partnership with Sheriff Jewel Williams and Inspector Derrick Woods of the Southwest Police Division will be hosting a gunlock give-a-way in Philadelphia on Saturday\, Dec. 16 at 10 a.m.   The location for the safety lock give-a-way will be at 12th Police District\, 6448 Woodland Ave. \nWilliams’ gunlock give-a-way is being held in concert with a citywide gunlock distribution effort undertaken by the Philadelphia Sheriff’s office.   This is an ongoing initiative to prevent children from being wounded and/or killed in accidental shootings involving unsecured firearms.  The recent shooting involving a three-year old from West Philadelphia with an unlocked gun has focused heightened attention on prevention activities. \nThe U.S. General Accounting Office has estimated that nearly one-third of accidental firearms deaths could be prevented if gun locks or load indicators were used.  \nWho:               Sen. Anthony H. Williams\n                          Sheriff Jewel Williams\n                          Inspector Derrick Woods \nWhat:              Gunlock Give-a-way \nWhen:             Sat. Dec. 16 at 10 a.m. \nWhere:            12th Police District — 6448 Woodland Ave.                        \nYour coverage is encouraged. \n 
URL:https://www.senatoranthonyhwilliams.com/event/gunlock-give-way
LOCATION:12th Police District\, 6448 Woodland Avenue\, Philadelphia\, PA\, 19142\, United States
ATTACH;FMTTYPE=image/jpeg:https://www.senatoranthonyhwilliams.com/wp-content/uploads/2017/12/Gun_Lock_Dec2017.jpg
GEO:39.9254529;-75.2338224
X-APPLE-STRUCTURED-LOCATION;VALUE=URI;X-ADDRESS=12th Police District 6448 Woodland Avenue Philadelphia PA 19142 United States;X-APPLE-RADIUS=500;X-TITLE=6448 Woodland Avenue:geo:-75.2338224,39.9254529
END:VEVENT
END:VCALENDAR