BEGIN:VCALENDAR
VERSION:2.0
PRODID:-//Senator Anthony H. Williams - ECPv6.15.20//NONSGML v1.0//EN
CALSCALE:GREGORIAN
METHOD:PUBLISH
X-ORIGINAL-URL:https://www.senatoranthonyhwilliams.com
X-WR-CALDESC:Events for Senator Anthony H. Williams
REFRESH-INTERVAL;VALUE=DURATION:PT1H
X-Robots-Tag:noindex
X-PUBLISHED-TTL:PT1H
BEGIN:VTIMEZONE
TZID:America/New_York
BEGIN:DAYLIGHT
TZOFFSETFROM:-0500
TZOFFSETTO:-0400
TZNAME:EDT
DTSTART:20160313T070000
END:DAYLIGHT
BEGIN:STANDARD
TZOFFSETFROM:-0400
TZOFFSETTO:-0500
TZNAME:EST
DTSTART:20161106T060000
END:STANDARD
BEGIN:DAYLIGHT
TZOFFSETFROM:-0500
TZOFFSETTO:-0400
TZNAME:EDT
DTSTART:20170312T070000
END:DAYLIGHT
BEGIN:STANDARD
TZOFFSETFROM:-0400
TZOFFSETTO:-0500
TZNAME:EST
DTSTART:20171105T060000
END:STANDARD
BEGIN:DAYLIGHT
TZOFFSETFROM:-0500
TZOFFSETTO:-0400
TZNAME:EDT
DTSTART:20180311T070000
END:DAYLIGHT
BEGIN:STANDARD
TZOFFSETFROM:-0400
TZOFFSETTO:-0500
TZNAME:EST
DTSTART:20181104T060000
END:STANDARD
BEGIN:DAYLIGHT
TZOFFSETFROM:-0500
TZOFFSETTO:-0400
TZNAME:EDT
DTSTART:20190310T070000
END:DAYLIGHT
BEGIN:STANDARD
TZOFFSETFROM:-0400
TZOFFSETTO:-0500
TZNAME:EST
DTSTART:20191103T060000
END:STANDARD
BEGIN:DAYLIGHT
TZOFFSETFROM:-0500
TZOFFSETTO:-0400
TZNAME:EDT
DTSTART:20200308T070000
END:DAYLIGHT
BEGIN:STANDARD
TZOFFSETFROM:-0400
TZOFFSETTO:-0500
TZNAME:EST
DTSTART:20201101T060000
END:STANDARD
END:VTIMEZONE
BEGIN:VEVENT
DTSTART;TZID=America/New_York:20171005T180000
DTEND;TZID=America/New_York:20171005T190000
DTSTAMP:20260422T091147
CREATED:20170908T184656Z
LAST-MODIFIED:20170908T184656Z
UID:9775-1507226400-1507230000@www.senatoranthonyhwilliams.com
SUMMARY:Afro Zumba: Health Awareness Season 2017
DESCRIPTION:Starting October 2nd and running through the middle of November are free\, 6-week classes! Join us every Thursday at 6 p.m. for Afro Zumba. \n*No classes are being held on 10/9 (Columbus Day holiday) or on 11/7 (Election Day). \nFor more information\, call Desaree Jones at 215-492-2980 or e-mail djones@pasenate.com.
URL:https://www.senatoranthonyhwilliams.com/event/afro-zumba-health-awareness-season-2017/2017-10-05
LOCATION:Richard Allen Charter School\, 2601 S 58th St\, Philadelphia\, PA\, 19143\, United States
CATEGORIES:Health Awareness Season
ATTACH;FMTTYPE=image/jpeg:https://www.senatoranthonyhwilliams.com/wp-content/uploads/2017/08/HealthyAwarenessOct2017.jpg
GEO:39.9282942;-75.2185526
X-APPLE-STRUCTURED-LOCATION;VALUE=URI;X-ADDRESS=Richard Allen Charter School 2601 S 58th St Philadelphia PA 19143 United States;X-APPLE-RADIUS=500;X-TITLE=2601 S 58th St:geo:-75.2185526,39.9282942
END:VEVENT
BEGIN:VEVENT
DTSTART;TZID=America/New_York:20171007T100000
DTEND;TZID=America/New_York:20171007T110000
DTSTAMP:20260422T091147
CREATED:20170908T182957Z
LAST-MODIFIED:20170908T185003Z
UID:9776-1507370400-1507374000@www.senatoranthonyhwilliams.com
SUMMARY:Tai Chi: Health Awareness Season 2017
DESCRIPTION:Starting October 2nd and running through the middle of November are free\, 6-week classes! Join us every Saturday at 10 a.m. for Tai Chi. \n*No classes are being held on 10/9 (Columbus Day holiday) or on 11/7 (Election Day). \nFor more information\, call Desaree Jones at 215-492-2980 or e-mail djones@pasenate.com.
URL:https://www.senatoranthonyhwilliams.com/event/tai-chi-health-awareness-season-2017/2017-10-07
LOCATION:Collingdale Borough Hall\, 800 McDade Blvd\, Collingdale\, PA\, 19023\, United States
CATEGORIES:Health Awareness Season
ATTACH;FMTTYPE=image/jpeg:https://www.senatoranthonyhwilliams.com/wp-content/uploads/2017/08/HealthyAwarenessOct2017.jpg
GEO:39.910853;-75.2777639
X-APPLE-STRUCTURED-LOCATION;VALUE=URI;X-ADDRESS=Collingdale Borough Hall 800 McDade Blvd Collingdale PA 19023 United States;X-APPLE-RADIUS=500;X-TITLE=800 McDade Blvd:geo:-75.2777639,39.910853
END:VEVENT
BEGIN:VEVENT
DTSTART;TZID=America/New_York:20180910T100000
DTEND;TZID=America/New_York:20180910T150000
DTSTAMP:20260422T091147
CREATED:20180821T190343Z
LAST-MODIFIED:20180823T214456Z
UID:10729-1536573600-1536591600@www.senatoranthonyhwilliams.com
SUMMARY:SENIOR HEALTH FAIR: Health Awareness Season 2018
DESCRIPTION:Senator Anthony H. Williams will hold close off his Health Awareness Season with a Senior Health Fair. \nCall Senator Williams’ Office to Register for Lunch: 215-492-2980. \nFor more information\, please contact Desaree Jones @ 215-492-2980 or e-mail desaree.jones@pasenate.com. \nDownload Flyer →
URL:https://www.senatoranthonyhwilliams.com/event/senior-health-fair-health-awareness-season-2018
LOCATION:West Philadelphia High School\, 4901 Chestnut St\, Philadelphia\, PA\, 19139\, United States
CATEGORIES:Health Awareness Season
ATTACH;FMTTYPE=image/jpeg:https://www.senatoranthonyhwilliams.com/wp-content/uploads/2018/08/HealthFair_Sept10_2018.jpg
GEO:39.9585566;-75.2197478
X-APPLE-STRUCTURED-LOCATION;VALUE=URI;X-ADDRESS=West Philadelphia High School 4901 Chestnut St Philadelphia PA 19139 United States;X-APPLE-RADIUS=500;X-TITLE=4901 Chestnut St:geo:-75.2197478,39.9585566
END:VEVENT
BEGIN:VEVENT
DTSTART;TZID=America/New_York:20180917T190000
DTEND;TZID=America/New_York:20180917T200000
DTSTAMP:20260422T091147
CREATED:20180821T173715Z
LAST-MODIFIED:20180821T201022Z
UID:10687-1537210800-1537214400@www.senatoranthonyhwilliams.com
SUMMARY:PERSONAL TRAINER: Health Awareness Season 2018
DESCRIPTION:FREE classes start September 17 and run until the end of October. Join us every Monday at 7 p.m. to work with a Personal Trainer. \n*No classes are being held on 10/8 (Columbus Day holiday). \nFor more information\, please contact Desaree Jones @ 215-492-2980 or e-mail desaree.jones@pasenate.com. \nDownload Flyer →
URL:https://www.senatoranthonyhwilliams.com/event/personal-trainer-health-awareness-season-2018/2018-09-17
LOCATION:West Philadelphia High School\, 4901 Chestnut St\, Philadelphia\, PA\, 19139\, United States
CATEGORIES:Health Awareness Season
ATTACH;FMTTYPE=image/jpeg:https://www.senatoranthonyhwilliams.com/wp-content/uploads/2018/08/N2N_HealthyAwareness2018.jpg
GEO:39.9585566;-75.2197478
X-APPLE-STRUCTURED-LOCATION;VALUE=URI;X-ADDRESS=West Philadelphia High School 4901 Chestnut St Philadelphia PA 19139 United States;X-APPLE-RADIUS=500;X-TITLE=4901 Chestnut St:geo:-75.2197478,39.9585566
END:VEVENT
BEGIN:VEVENT
DTSTART;TZID=America/New_York:20180918T160000
DTEND;TZID=America/New_York:20180918T170000
DTSTAMP:20260422T091147
CREATED:20180821T173855Z
LAST-MODIFIED:20180821T201008Z
UID:10696-1537286400-1537290000@www.senatoranthonyhwilliams.com
SUMMARY:HIP HOP: Health Awareness Season 2018
DESCRIPTION:FREE classes start September 17 and run until the end of October. Join us every Tuesday at 4 p.m. for Hip Hop. \nFor more information\, please contact Desaree Jones @ 215-492-2980 or e-mail desaree.jones@pasenate.com. \nDownload Flyer →
URL:https://www.senatoranthonyhwilliams.com/event/hip-hop-health-awareness-season-2018/2018-09-18
LOCATION:Universal Audenried Charter High School\, 32nd & Tasker Streets\, Philadelphia\, PA\, 19145\, United States
CATEGORIES:Health Awareness Season
ATTACH;FMTTYPE=image/jpeg:https://www.senatoranthonyhwilliams.com/wp-content/uploads/2018/08/N2N_HealthyAwareness2018.jpg
GEO:39.93424;-75.1975451
X-APPLE-STRUCTURED-LOCATION;VALUE=URI;X-ADDRESS=Universal Audenried Charter High School 32nd & Tasker Streets Philadelphia PA 19145 United States;X-APPLE-RADIUS=500;X-TITLE=32nd & Tasker Streets:geo:-75.1975451,39.93424
END:VEVENT
BEGIN:VEVENT
DTSTART;TZID=America/New_York:20180918T180000
DTEND;TZID=America/New_York:20180918T200000
DTSTAMP:20260422T091147
CREATED:20180821T174330Z
LAST-MODIFIED:20180824T125345Z
UID:10704-1537293600-1537300800@www.senatoranthonyhwilliams.com
SUMMARY:LINE DANCING: Health Awareness Season 2018
DESCRIPTION:FREE classes start September 17 and run until the end of October. Join us every Tuesday at 6 p.m. (BEGINNERS) and 7 p.m. (ADVANCED) for Line Dancing with Chris Blues. \nFor more information\, please contact Desaree Jones @ 215-492-2980 or e-mail desaree.jones@pasenate.com. \nDownload Flyer →
URL:https://www.senatoranthonyhwilliams.com/event/line-dancing-health-awareness-season-2018/2018-09-18
LOCATION:Universal Audenried Charter High School\, 32nd & Tasker Streets\, Philadelphia\, PA\, 19145\, United States
CATEGORIES:Health Awareness Season
ATTACH;FMTTYPE=image/jpeg:https://www.senatoranthonyhwilliams.com/wp-content/uploads/2018/08/N2N_HealthyAwareness2018.jpg
GEO:39.93424;-75.1975451
X-APPLE-STRUCTURED-LOCATION;VALUE=URI;X-ADDRESS=Universal Audenried Charter High School 32nd & Tasker Streets Philadelphia PA 19145 United States;X-APPLE-RADIUS=500;X-TITLE=32nd & Tasker Streets:geo:-75.1975451,39.93424
END:VEVENT
BEGIN:VEVENT
DTSTART;TZID=America/New_York:20180919T180000
DTEND;TZID=America/New_York:20180919T200000
DTSTAMP:20260422T091147
CREATED:20180821T180339Z
LAST-MODIFIED:20180821T201756Z
UID:10719-1537380000-1537387200@www.senatoranthonyhwilliams.com
SUMMARY:KICK BOXING: Health Awareness Season 2018
DESCRIPTION:FREE classes start September 17 and run until the end of October.  \nJoin us every Tuesday at 6 p.m. (CHILDREN) and 7 p.m. (ALL AGES) for Kickboxing. \nFor more information\, please contact Desaree Jones @ 215-492-2980 or e-mail desaree.jones@pasenate.com. \nDownload Flyer →
URL:https://www.senatoranthonyhwilliams.com/event/kick-boxing-health-awareness-season-2018/2018-09-19
LOCATION:Philadelphia\, PA\, United States
CATEGORIES:Health Awareness Season
ATTACH;FMTTYPE=image/jpeg:https://www.senatoranthonyhwilliams.com/wp-content/uploads/2018/08/N2N_HealthyAwareness2018.jpg
END:VEVENT
BEGIN:VEVENT
DTSTART;TZID=America/New_York:20180919T190000
DTEND;TZID=America/New_York:20180919T200000
DTSTAMP:20260422T091147
CREATED:20180821T174515Z
LAST-MODIFIED:20180821T200524Z
UID:10718-1537383600-1537387200@www.senatoranthonyhwilliams.com
SUMMARY:YOGA/STRETCH EXERCISE: Health Awareness Season 2018
DESCRIPTION:FREE classes start September 17 and run until the end of October. Join us every Wednesday at 7 p.m. for Yoga/Stretch Exercise. \nFor more information\, please contact Desaree Jones @ 215-492-2980 or e-mail desaree.jones@pasenate.com. \nDownload Flyer →
URL:https://www.senatoranthonyhwilliams.com/event/yoga-stretch-exercise-health-awareness-season-2018/2018-09-19
LOCATION:Sharon Hill Borough Hall\, 250 Sharon Avenue\, Sharon Hill\, PA\, 19079\, United States
CATEGORIES:Health Awareness Season
ATTACH;FMTTYPE=image/jpeg:https://www.senatoranthonyhwilliams.com/wp-content/uploads/2018/08/N2N_HealthyAwareness2018.jpg
GEO:39.9066809;-75.2721804
X-APPLE-STRUCTURED-LOCATION;VALUE=URI;X-ADDRESS=Sharon Hill Borough Hall 250 Sharon Avenue Sharon Hill PA 19079 United States;X-APPLE-RADIUS=500;X-TITLE=250 Sharon Avenue:geo:-75.2721804,39.9066809
END:VEVENT
BEGIN:VEVENT
DTSTART;TZID=America/New_York:20180920T180000
DTEND;TZID=America/New_York:20180920T190000
DTSTAMP:20260422T091147
CREATED:20180821T175228Z
LAST-MODIFIED:20180824T125512Z
UID:10727-1537466400-1537470000@www.senatoranthonyhwilliams.com
SUMMARY:ZUMBA: Health Awareness Season 2018
DESCRIPTION:FREE classes start September 17 and run until the end of October. Join us every Thursday at 6 p.m. for Zumba. \nFor more information\, please contact Desaree Jones @ 215-492-2980 or e-mail desaree.jones@pasenate.com. \nDownload Flyer →
URL:https://www.senatoranthonyhwilliams.com/event/zumba-health-awareness-season-2018
LOCATION:Philadelphia\, PA\, United States
CATEGORIES:Health Awareness Season
ATTACH;FMTTYPE=image/jpeg:https://www.senatoranthonyhwilliams.com/wp-content/uploads/2018/08/N2N_HealthyAwareness2018.jpg
END:VEVENT
BEGIN:VEVENT
DTSTART;TZID=America/New_York:20180922T090000
DTEND;TZID=America/New_York:20180922T100000
DTSTAMP:20260422T091147
CREATED:20180821T175054Z
LAST-MODIFIED:20180821T201046Z
UID:10728-1537606800-1537610400@www.senatoranthonyhwilliams.com
SUMMARY:TAI CHI: Health Awareness Season 2018
DESCRIPTION:FREE classes start September 17 and run until the end of October. Join us every Saturday at 9 a.m. for Tai Chi. \nFor more information\, please contact Desaree Jones @ 215-492-2980 or e-mail desaree.jones@pasenate.com. \nDownload Flyer →
URL:https://www.senatoranthonyhwilliams.com/event/tai-chi-health-awareness-season-2018/2018-09-22
LOCATION:Philadelphia\, PA\, United States
CATEGORIES:Health Awareness Season
ATTACH;FMTTYPE=image/jpeg:https://www.senatoranthonyhwilliams.com/wp-content/uploads/2018/08/N2N_HealthyAwareness2018.jpg
END:VEVENT
BEGIN:VEVENT
DTSTART;TZID=America/New_York:20191007T190000
DTEND;TZID=America/New_York:20191007T200000
DTSTAMP:20260422T091147
CREATED:20190925T140929Z
LAST-MODIFIED:20191001T185139Z
UID:74529-1570474800-1570478400@www.senatoranthonyhwilliams.com
SUMMARY:PERSONAL TRAINING - Healthy Awareness Season Classes 2019
DESCRIPTION:Join State Senator Anthony H. Williams for Healthy Awareness Season! FREE Personal Training classes begin Monday\, October 7 at 7 pm and run every Monday until the end of October. \n(No classes are being held on October 14 due to Columbus Day) \nFor more information\, please contact Ethel Waters @ 215-492-2980 or e-mail Ethel.Waters@pasenate.com. \nDownload Schedule →
URL:https://www.senatoranthonyhwilliams.com/event/personal-training-2019/2019-10-07
LOCATION:Kingsessing Recreation Center\, 4901 Kingsessing Ave\, Philadelphia\, PA\, 19143\, United States
CATEGORIES:Health Awareness Season
ATTACH;FMTTYPE=image/jpeg:https://www.senatoranthonyhwilliams.com/wp-content/uploads/2019/09/HealthyAwareness2019.jpg
GEO:39.9427107;-75.2172172
X-APPLE-STRUCTURED-LOCATION;VALUE=URI;X-ADDRESS=Kingsessing Recreation Center 4901 Kingsessing Ave Philadelphia PA 19143 United States;X-APPLE-RADIUS=500;X-TITLE=4901 Kingsessing Ave:geo:-75.2172172,39.9427107
END:VEVENT
END:VCALENDAR