BEGIN:VCALENDAR
VERSION:2.0
PRODID:-//Senator Anthony H. Williams - ECPv6.15.20//NONSGML v1.0//EN
CALSCALE:GREGORIAN
METHOD:PUBLISH
X-ORIGINAL-URL:https://www.senatoranthonyhwilliams.com
X-WR-CALDESC:Events for Senator Anthony H. Williams
REFRESH-INTERVAL;VALUE=DURATION:PT1H
X-Robots-Tag:noindex
X-PUBLISHED-TTL:PT1H
BEGIN:VTIMEZONE
TZID:America/New_York
BEGIN:DAYLIGHT
TZOFFSETFROM:-0500
TZOFFSETTO:-0400
TZNAME:EDT
DTSTART:20140309T070000
END:DAYLIGHT
BEGIN:STANDARD
TZOFFSETFROM:-0400
TZOFFSETTO:-0500
TZNAME:EST
DTSTART:20141102T060000
END:STANDARD
BEGIN:DAYLIGHT
TZOFFSETFROM:-0500
TZOFFSETTO:-0400
TZNAME:EDT
DTSTART:20150308T070000
END:DAYLIGHT
BEGIN:STANDARD
TZOFFSETFROM:-0400
TZOFFSETTO:-0500
TZNAME:EST
DTSTART:20151101T060000
END:STANDARD
BEGIN:DAYLIGHT
TZOFFSETFROM:-0500
TZOFFSETTO:-0400
TZNAME:EDT
DTSTART:20160313T070000
END:DAYLIGHT
BEGIN:STANDARD
TZOFFSETFROM:-0400
TZOFFSETTO:-0500
TZNAME:EST
DTSTART:20161106T060000
END:STANDARD
END:VTIMEZONE
BEGIN:VEVENT
DTSTART;TZID=America/New_York:20150217T100000
DTEND;TZID=America/New_York:20150217T130000
DTSTAMP:20260425T165024
CREATED:20170828T204619Z
LAST-MODIFIED:20170828T204619Z
UID:9581-1424167200-1424178000@www.senatoranthonyhwilliams.com
SUMMARY:The Delaware County Apprise Program
DESCRIPTION:Will You or a Family Member Be Eligible for Medicare Soon?\nDownload Flyer \nMedicare Individual Counseling Sessions\nInformation will also be available on 2 Medicare Cost Sharing Programs: \n\nMedicare Savings Program\nMSP helps with the Medicare Part B Premium\, and\nExtra Help Program\nLIS (Low Income Subsidy) helps with the Medicare Part D Prescription Plan Premium\n\nQuestions?\nPlease contact Glenda Radical\, Apprise Program Manager\nPhone: 484-494-3769\nEmail: gradical@scs-delco.org \nAppointment Required!\nCall Glenda Radical at 484-494-3769 or Ronda Liggins-McCoy at 610-284-7335 to schedule your appointment. \nAPPRISE is a free health insurance counseling program designed to help older Pennsylvanians with Medicare. Counselors are specially trained staff and volunteers who can answer your questions about Medicare and provide you with objective\, easy-to-understand information about Medicare\, Medicare Supplemental Insurance\, Medicaid\, and Long-Term Care Insurance.
URL:https://www.senatoranthonyhwilliams.com/event/the-delaware-county-apprise-program/2015-02-17
LOCATION:Senator Anthony Williams’ Yeadon Office\, 419 Church Lane\, Yeadon\, PA\, 19050\, United States
GEO:39.9387661;-75.2554624
X-APPLE-STRUCTURED-LOCATION;VALUE=URI;X-ADDRESS=Senator Anthony Williams’ Yeadon Office 419 Church Lane Yeadon PA 19050 United States;X-APPLE-RADIUS=500;X-TITLE=419 Church Lane:geo:-75.2554624,39.9387661
END:VEVENT
END:VCALENDAR