BEGIN:VCALENDAR
VERSION:2.0
PRODID:-//Senator Anthony H. Williams - ECPv6.15.20//NONSGML v1.0//EN
CALSCALE:GREGORIAN
METHOD:PUBLISH
X-ORIGINAL-URL:https://www.senatoranthonyhwilliams.com
X-WR-CALDESC:Events for Senator Anthony H. Williams
REFRESH-INTERVAL;VALUE=DURATION:PT1H
X-Robots-Tag:noindex
X-PUBLISHED-TTL:PT1H
BEGIN:VTIMEZONE
TZID:America/New_York
BEGIN:DAYLIGHT
TZOFFSETFROM:-0500
TZOFFSETTO:-0400
TZNAME:EDT
DTSTART:20150308T070000
END:DAYLIGHT
BEGIN:STANDARD
TZOFFSETFROM:-0400
TZOFFSETTO:-0500
TZNAME:EST
DTSTART:20151101T060000
END:STANDARD
BEGIN:DAYLIGHT
TZOFFSETFROM:-0500
TZOFFSETTO:-0400
TZNAME:EDT
DTSTART:20160313T070000
END:DAYLIGHT
BEGIN:STANDARD
TZOFFSETFROM:-0400
TZOFFSETTO:-0500
TZNAME:EST
DTSTART:20161106T060000
END:STANDARD
BEGIN:DAYLIGHT
TZOFFSETFROM:-0500
TZOFFSETTO:-0400
TZNAME:EDT
DTSTART:20170312T070000
END:DAYLIGHT
BEGIN:STANDARD
TZOFFSETFROM:-0400
TZOFFSETTO:-0500
TZNAME:EST
DTSTART:20171105T060000
END:STANDARD
END:VTIMEZONE
BEGIN:VEVENT
DTSTART;TZID=America/New_York:20160502T190000
DTEND;TZID=America/New_York:20160502T200000
DTSTAMP:20260423T190934
CREATED:20170828T210758Z
LAST-MODIFIED:20170828T210758Z
UID:9641-1462215600-1462219200@www.senatoranthonyhwilliams.com
SUMMARY:PERSONAL TRAINER: Health Awareness Season 2016
DESCRIPTION:Starting May 1 and running through the beginning of June are free\, 6-week classes! Join us every Monday at 7 p.m. to work with a Personal Trainer. \nFor more information\, call Desaree Jones at 215-492-2980 or e-mail djones@pasenate.com. \nDownload flyer with a complete list of the 2016 Health Awareness Season classes. \nDownload Flyer
URL:https://www.senatoranthonyhwilliams.com/event/personal-trainer-health-awareness-season-2016/2016-05-02
LOCATION:West Philadelphia High School\, 4901 Chestnut St\, Philadelphia\, PA\, 19139\, United States
CATEGORIES:Health Awareness Season
GEO:39.9585566;-75.2197478
X-APPLE-STRUCTURED-LOCATION;VALUE=URI;X-ADDRESS=West Philadelphia High School 4901 Chestnut St Philadelphia PA 19139 United States;X-APPLE-RADIUS=500;X-TITLE=4901 Chestnut St:geo:-75.2197478,39.9585566
END:VEVENT
END:VCALENDAR