BEGIN:VCALENDAR
VERSION:2.0
PRODID:-//Senator Anthony H. Williams - ECPv6.15.20//NONSGML v1.0//EN
CALSCALE:GREGORIAN
METHOD:PUBLISH
X-WR-CALNAME:Senator Anthony H. Williams
X-ORIGINAL-URL:https://www.senatoranthonyhwilliams.com
X-WR-CALDESC:Events for Senator Anthony H. Williams
REFRESH-INTERVAL;VALUE=DURATION:PT1H
X-Robots-Tag:noindex
X-PUBLISHED-TTL:PT1H
BEGIN:VTIMEZONE
TZID:America/New_York
BEGIN:DAYLIGHT
TZOFFSETFROM:-0500
TZOFFSETTO:-0400
TZNAME:EDT
DTSTART:20130310T070000
END:DAYLIGHT
BEGIN:STANDARD
TZOFFSETFROM:-0400
TZOFFSETTO:-0500
TZNAME:EST
DTSTART:20131103T060000
END:STANDARD
BEGIN:DAYLIGHT
TZOFFSETFROM:-0500
TZOFFSETTO:-0400
TZNAME:EDT
DTSTART:20140309T070000
END:DAYLIGHT
BEGIN:STANDARD
TZOFFSETFROM:-0400
TZOFFSETTO:-0500
TZNAME:EST
DTSTART:20141102T060000
END:STANDARD
BEGIN:DAYLIGHT
TZOFFSETFROM:-0500
TZOFFSETTO:-0400
TZNAME:EDT
DTSTART:20150308T070000
END:DAYLIGHT
BEGIN:STANDARD
TZOFFSETFROM:-0400
TZOFFSETTO:-0500
TZNAME:EST
DTSTART:20151101T060000
END:STANDARD
END:VTIMEZONE
BEGIN:VEVENT
DTSTART;TZID=America/New_York:20141007T173000
DTEND;TZID=America/New_York:20141007T183000
DTSTAMP:20260425T082309
CREATED:20170828T203447Z
LAST-MODIFIED:20170828T203557Z
UID:9558-1412703000-1412706600@www.senatoranthonyhwilliams.com
SUMMARY:LINE DANCING: Health Awareness Season 2014
DESCRIPTION:Starting October 1 and running through the beginning of November are free\, 6-week classes! Join us every Tuesday at 5:30 for Line Dancing classes. **NOTE: There will not be Line Dancing class on November 4th.** \nFor more information\, call Desaree Jones at 215-492-2980 or e-mail djones@pasenate.com. \nDownload flyer with a complete list of the 2014 Health Awareness Season classes.
URL:https://www.senatoranthonyhwilliams.com/event/line-dancing-health-awareness-season-2014/2014-10-07
LOCATION:Eastwick Recreation Center\, 80th & Mars Place\, Philadelphia\, PA\, 19153\, United States
CATEGORIES:Health Awareness Season
GEO:39.9039601;-75.250453
X-APPLE-STRUCTURED-LOCATION;VALUE=URI;X-ADDRESS=Eastwick Recreation Center 80th & Mars Place Philadelphia PA 19153 United States;X-APPLE-RADIUS=500;X-TITLE=80th & Mars Place:geo:-75.250453,39.9039601
END:VEVENT
END:VCALENDAR