BEGIN:VCALENDAR
VERSION:2.0
PRODID:-//Senator Anthony H. Williams - ECPv6.15.20//NONSGML v1.0//EN
CALSCALE:GREGORIAN
METHOD:PUBLISH
X-WR-CALNAME:Senator Anthony H. Williams
X-ORIGINAL-URL:https://www.senatoranthonyhwilliams.com
X-WR-CALDESC:Events for Senator Anthony H. Williams
REFRESH-INTERVAL;VALUE=DURATION:PT1H
X-Robots-Tag:noindex
X-PUBLISHED-TTL:PT1H
BEGIN:VTIMEZONE
TZID:America/New_York
BEGIN:DAYLIGHT
TZOFFSETFROM:-0500
TZOFFSETTO:-0400
TZNAME:EDT
DTSTART:20160313T070000
END:DAYLIGHT
BEGIN:STANDARD
TZOFFSETFROM:-0400
TZOFFSETTO:-0500
TZNAME:EST
DTSTART:20161106T060000
END:STANDARD
BEGIN:DAYLIGHT
TZOFFSETFROM:-0500
TZOFFSETTO:-0400
TZNAME:EDT
DTSTART:20170312T070000
END:DAYLIGHT
BEGIN:STANDARD
TZOFFSETFROM:-0400
TZOFFSETTO:-0500
TZNAME:EST
DTSTART:20171105T060000
END:STANDARD
BEGIN:DAYLIGHT
TZOFFSETFROM:-0500
TZOFFSETTO:-0400
TZNAME:EDT
DTSTART:20180311T070000
END:DAYLIGHT
BEGIN:STANDARD
TZOFFSETFROM:-0400
TZOFFSETTO:-0500
TZNAME:EST
DTSTART:20181104T060000
END:STANDARD
END:VTIMEZONE
BEGIN:VEVENT
DTSTART;TZID=America/New_York:20171005T100000
DTEND;TZID=America/New_York:20171005T130000
DTSTAMP:20260422T172845
CREATED:20170907T212721Z
LAST-MODIFIED:20170907T212721Z
UID:9752-1507197600-1507208400@www.senatoranthonyhwilliams.com
SUMMARY:Individual Medicare Counseling Sessions
DESCRIPTION:Do You Need Help with Medicare?\nState Senator Anthony H. Williams is hosting volunteers from the Delaware County APPRISE Program to help with individual Medicare Open Enrollment questions at the Yeadon District Office: 419 Church Lane\, Yeadon. \nInformation will also be available on 2 Medicare Cost Sharing Programs:\nMedicare Savings Program\nMSP helps with the Medicare Part B Premium\, and \nExtra Help Program\nLIS (Low Income Subsidy) helps with the Medicare Part D Prescription Plan Premium \nQuestions?  \nPlease contact Glenda Radical\, Apprise Program Manager\nPhone: (484) 494-3769 • Email: gradical@scs-delco.org \nAppointments required! \nCall Glenda Radical at 484-494-3769 or Ronda Liggins-McCoy at 610-284-7335 to schedule your appointment. \nDownload Flyer →
URL:https://www.senatoranthonyhwilliams.com/event/individual-medicare-counseling-sessions/2017-10-05
LOCATION:Senator Anthony Williams’ Yeadon Office\, 419 Church Lane\, Yeadon\, PA\, 19050\, United States
ATTACH;FMTTYPE=image/jpeg:https://www.senatoranthonyhwilliams.com/wp-content/uploads/2017/09/Apprise_Fall2017.jpg
GEO:39.9387661;-75.2554624
X-APPLE-STRUCTURED-LOCATION;VALUE=URI;X-ADDRESS=Senator Anthony Williams’ Yeadon Office 419 Church Lane Yeadon PA 19050 United States;X-APPLE-RADIUS=500;X-TITLE=419 Church Lane:geo:-75.2554624,39.9387661
END:VEVENT
END:VCALENDAR